BEGIN:VCALENDAR
VERSION:2.0
PRODID:-//Rapport Leadership Training | Management Skills Development | Teambuilding | Communication Skills - ECPv5.12.3//NONSGML v1.0//EN
CALSCALE:GREGORIAN
METHOD:PUBLISH
X-WR-CALNAME:Rapport Leadership Training | Management Skills Development | Teambuilding | Communication Skills
X-ORIGINAL-URL:https://www.rapportleadership.com.au
X-WR-CALDESC:Events for Rapport Leadership Training | Management Skills Development | Teambuilding | Communication Skills
REFRESH-INTERVAL;VALUE=DURATION:PT1H
X-Robots-Tag:noindex
X-PUBLISHED-TTL:PT1H
BEGIN:VTIMEZONE
TZID:Australia/Sydney
BEGIN:STANDARD
TZOFFSETFROM:+1100
TZOFFSETTO:+1000
TZNAME:AEST
DTSTART:20160402T160000
END:STANDARD
BEGIN:DAYLIGHT
TZOFFSETFROM:+1000
TZOFFSETTO:+1100
TZNAME:AEDT
DTSTART:20161001T160000
END:DAYLIGHT
TZID:Australia/Melbourne
BEGIN:STANDARD
TZOFFSETFROM:+1100
TZOFFSETTO:+1000
TZNAME:AEST
DTSTART:20160402T160000
END:STANDARD
BEGIN:DAYLIGHT
TZOFFSETFROM:+1000
TZOFFSETTO:+1100
TZNAME:AEDT
DTSTART:20161001T160000
END:DAYLIGHT
END:VTIMEZONE
BEGIN:VEVENT
DTSTART;TZID=Australia/Sydney:20160406T100000
DTEND;TZID=Australia/Sydney:20160406T120000
DTSTAMP:20260421T185903
CREATED:20151124T203501Z
LAST-MODIFIED:20210129T045657Z
UID:2336-1459936800-1459944000@www.rapportleadership.com.au
SUMMARY:Childcare Leadership Roundtable Norwest
DESCRIPTION:Are you looking to be a better leader and build a stronger team within your childcare centre?\nYou are invited to our Childcare Leadership Roundtable event where we cover some of the biggest challenges in Childcare and how to solve them quickly and easily.\nIf you are frustrated with your results or your team\, then you need to consider a different approach. This workshop is designed for people already in a leadership role in childcare centres wanting to connect with peers and discuss challenges facing the industry today. \nTopics include: \n\nBeing an effective childcare leader\n\n\nManaging paperwork requirements\n\n\nLeading learning Circles\n\n\nImplementing the NQF framework\n\n\nEffective critical reflection\n\n\nDealing with difficult parents\n\n\nManaging under performing staff\n\n\nAs well as any other challenges you may be facing at the moment.\n\nThis session will be facilitated by an experienced leadership and business coach. Break for lunch and then join us for Leadership Essentials\, a four hour hands on workshop which covers how to be a better leader and build a stronger team. \nWhen and where is the workshop? 10am-12pm – Childcare Leadership Roundtable 1pm-5pm    –  Leadership Essentials Workshop \nRegister to attend both events and save $20\nWho will be presenting? \nJeremy Carter is the Managing Director of Rapport Leadership Australia and has twenty years experience in building high performance teams and developing new leaders in organisations. \nSeats are limited to ensure this is a very interactive event so BOOK TODAY. \nTo learn more about our range of training and consulting solutions for Childcare Centres\, visit our childcare page or contact us at info@rapportleadership.com.au
URL:https://www.rapportleadership.com.au/event/childcare-leadership-roundtable-norwest/
LOCATION:Adina Apartment Hotel Norwest\, 22 Brookhollow Avenue\, Baulkham Hills\, NSW\, 2153\, Australia
CATEGORIES:Half Day Workshops
ATTACH;FMTTYPE=image/jpeg:https://www.rapportleadership.com.au/wp-content/uploads/2021/01/394dd93ed3565436c5159b9dc0123b34-ggVLKU.tmp_.jpg
END:VEVENT
BEGIN:VEVENT
DTSTART;TZID=Australia/Sydney:20160406T130000
DTEND;TZID=Australia/Sydney:20160406T170000
DTSTAMP:20260421T185903
CREATED:20151124T203653Z
LAST-MODIFIED:20210129T045558Z
UID:2338-1459947600-1459962000@www.rapportleadership.com.au
SUMMARY:Leadership Essentials Workshop Norwest
DESCRIPTION:Whether you are an emerging\, experienced\, or future manager / leader\, you are invited to attend our Leadership Essentials workshop. Learn the essential qualities of successful leaders\, and why leadership is so important for team satisfaction\, productivity and maintaining a competitive edge.\nThis engaging leadership workshop allows you to learn and practice the skills of successful leaders. Processes reveal how you are responding in today’s business climate and teach you other ways to respond to achieve better outcomes.\n\n\n\nGain self-awareness and learn how to take focused action\, concentrating on the areas of your business and personal life that are important to you.\n\n\n\n\nDiscover which areas of your business life are getting your time and where to focus your energy.\n\n\n\n\nIdentify whether you are surviving or thriving in each area\n\n\n\n\nAssess your business attitudes and how they affect your work\n\n\n\n\nLearn to change your approach and how your thoughts affect your outcomes\n\n\n\n\nUnderstand the characteristics and behaviours of leaders who are thriving today\n\nWhat you will learn by attending? \n\n\n\nWhy leadership matters and how to be a better leader\n\n\n\n\nBuilding trust and facilitating communication to build a more successful team\n\n\n\n\nHow to recruit\, engage and retain great staff\n\n\n\n\nGaining respect and engagement from your team\n\n\n\n\nAddressing problem behaviours\n\n\n\n\nBuilding a winning culture in your organisation\n\n\n\n\nSuccessfully building new relationships\n\nFor best results\, you are invited to bring your key team members along with you.  \nWho will be presenting? \nJeremy Carter is the Managing Director of Rapport Leadership Australia and has twenty years experience in building high performance teams and developing new leaders in organisations.’ \nThis workshop is usually priced at $197\, save 50% off RRP\nSeats are limited to ensure this is a very interactive event so BOOK TODAY.
URL:https://www.rapportleadership.com.au/event/leadership-essentials-workshop-norwest/
LOCATION:Adina Apartment Hotel Norwest\, 22 Brookhollow Avenue\, Baulkham Hills\, NSW\, 2153\, Australia
CATEGORIES:Half Day Workshops
ATTACH;FMTTYPE=image/jpeg:https://www.rapportleadership.com.au/wp-content/uploads/2021/01/b3813cb49b6c7a7bbd4a0fdaeb75d20c-QROS1n.tmp_.jpg
END:VEVENT
BEGIN:VEVENT
DTSTART;TZID=Australia/Sydney:20160407T090000
DTEND;TZID=Australia/Sydney:20160407T123000
DTSTAMP:20260421T185903
CREATED:20160229T012035Z
LAST-MODIFIED:20210129T045457Z
UID:2388-1460019600-1460032200@www.rapportleadership.com.au
SUMMARY:Ready Set Grow Business Planning Workshop
DESCRIPTION:Is 2016 the year for your business to get set and GROW?\n\n \nHills Shire Council has partnered with Rapport Leadership International to present a series of half day workshops to empower you to grow your business to the next level.  The workshops will show you how to develop a business plan to increase both the revenue and profitability of your business. Experienced business mentors will help you identify the right strategies to get the results you want from your business. \n \nWe will also discuss how the Industry Skills Fund (ISF)\, a government initiative to assist SME businesses in Australia to position themselves for growth opportunities and have up to 75% of your investment in training or coaching reimbursed by the fund. The application process is quick and easy with most funding applications being turned around in under 30 days. Eligible businesses need to be non-tax-exempt\, have a demonstrated trading history (3 years min)\, have an ABN and be registered for GST. \n \nTo help business owners to write their business plans and apply for funding\, we will be running a workshop titled\, “Ready\, Set\, GROW”. \n \nThe workshop will be facilitated by Jeremy Carter\, CEO of Rapport Leadership International. Jeremy show you how to develop your business plan and how to put together the right information to make your ISF funding application a breeze.  Document templates will be supplied\, you just need to bring your laptop computer with Microsoft Office so you can fill in the blanks on the day. \n \nThe workshop will assist you to develop a business plan grow your business and to apply for ISF funding for training and development. \n \nTopics covered include: \n \n \nWhat is the Industry Skills Fund?\n \nWho is eligible?\n \nWhat type of training can I get funding for?\n \nUnderstanding the application process\n \nDevelop your business plan\n \nYour business mission and vision\n \nBusiness / Strategic plan including 3 year revenue forecast\n \nOrganisational structure and governance\n \nKPI’s – how we measure your business performance\n \nRisk analysis (SWOT)\n \nMarketing plan\n\n\n\n\n \nYour growth opportunity\n \nWorkforce planning\n \nUpskilling your workforce\n \nWhat skills currently exist within the business enabling it to conduct its core activity?\n \nWhat new skills or training is required to achieve the growth opportunity?\n\n\n\n\n\n\n \nThe last time we ran this workshop\, it was a sellout success and was rated 9.3/10 by attendees. Book NOW!\n \nDate: Thursday 3 March Time: Starting 8:30am – 12:30pm Where: The Hills Shire Council – 3 Columbia Court Baulkham Hills Cost: FREE (Normally $297\, however with the generous support of sponsors\, we are able to offer it free for the first 15 attendees only) \n \nIf 2016 is your year for business growth\, “Ready\, Set\, GROW” is an ideal event to plan your success and get assistance from Government grants to help you get there even faster!
URL:https://www.rapportleadership.com.au/event/ready-set-grow3/
LOCATION:Hills Shire Council\, 3 Columbia Court\, Baulkham Hills\, NSW\, 2153\, Australia
ATTACH;FMTTYPE=image/jpeg:https://www.rapportleadership.com.au/wp-content/uploads/2021/01/faf58676811416a1c1a5cf11acf3ec6e-km064j.tmp_.jpg
END:VEVENT
BEGIN:VEVENT
DTSTART;TZID=Australia/Melbourne:20160422T180000
DTEND;TZID=Australia/Melbourne:20160424T160000
DTSTAMP:20260421T185903
CREATED:20150121T222517Z
LAST-MODIFIED:20201124T064546Z
UID:1552-1461348000-1461513600@www.rapportleadership.com.au
SUMMARY:Power Communication
DESCRIPTION:Communication is paramount to success and to changing cultures. In Power Communication\, you identify your learning and communication preference for visual\, auditory\, and kinesthetic modalities\, and how to use this to improve your communication outcomes. Great leaders need great communication skills.\nYou will learn how to most effectively engage\, communicate\, and get in rapport with any communication style. Communication tools and techniques are practiced one-on-one\, in small teams\, and in large group exercises. This interactive program will enhance your communication effectiveness immediately. This course is ideal for couples looking to improve their communication and strengthen their relationship. \nWhat will you learn at the course?\n\nIdentifying communication styles\nCreating rapport with people\nListening to understand\nReframing for a new approach\nProducing win/win outcomes\nTaking responsibility for your communication\n\n\nWhat results can you expect by attending?\n\nDevelop mutual trust and understanding thereby strengthening relationships and team performance\nCommunications that improve productivity and foster ingenuity\nUnderstand how to create rapport and master the essence of effective communication\nListen to understand and help move the business in the direction of the desired culture\nDiscover additional perspectives to create new and different outcomes in every situation\nFind new ways to collaborate with like-minded people\nBecome proactive and seek out understanding\, choosing to remain positive\n\nWhat’s included for your investment?\n\nCourse materials and handouts\nAbility to reattend the program for free in the future\nInvitation to exclusive alumni events\n\nYour 100% satisfaction guarantee:\nIf by the end of the program you are not convinced that what you have learned will significantly improve your results\, help you make more money\, and experience more joy\, love and success\, we will refund your fee in full.\nAll we ask is that you: \n\nParticipate fully in the entire program\nNotify the instructor before leaving on last day if you wish to get a refund\nReturn the workbook with all handouts and your notes\n\nOur next Power Communication training is scheduled for:\nLocation: Sydney\, NSW\nPrice: $1\,100 (Inc GST) \nDue to the intensive nature of this program\, seats are strictly limited. \nThe approximate duration of each day’s training is: \n\nDay One – 5 hours\nDay Two – 15 hours\nDay Three – 6 hours\n\nPeriodic breaks are offered throughout each day. The last day of your training will be celebrated with a graduation upon your successful completion of the course. \n 
URL:https://www.rapportleadership.com.au/event/power-communication/
LOCATION:Rydges Parramatta\, 116-118 James Ruse Drive\, Parramatta\, NSW\, 2142\, Australia
CATEGORIES:Intensives
ATTACH;FMTTYPE=image/png:https://www.rapportleadership.com.au/wp-content/uploads/2015/01/transparent1.png
END:VEVENT
END:VCALENDAR