BEGIN:VCALENDAR
VERSION:2.0
PRODID:-//Rapport Leadership Training | Management Skills Development | Teambuilding | Communication Skills - ECPv5.12.3//NONSGML v1.0//EN
CALSCALE:GREGORIAN
METHOD:PUBLISH
X-WR-CALNAME:Rapport Leadership Training | Management Skills Development | Teambuilding | Communication Skills
X-ORIGINAL-URL:https://www.rapportleadership.com.au
X-WR-CALDESC:Events for Rapport Leadership Training | Management Skills Development | Teambuilding | Communication Skills
REFRESH-INTERVAL;VALUE=DURATION:PT1H
X-Robots-Tag:noindex
X-PUBLISHED-TTL:PT1H
BEGIN:VTIMEZONE
TZID:Australia/Sydney
BEGIN:STANDARD
TZOFFSETFROM:+1100
TZOFFSETTO:+1000
TZNAME:AEST
DTSTART:20160402T160000
END:STANDARD
BEGIN:DAYLIGHT
TZOFFSETFROM:+1000
TZOFFSETTO:+1100
TZNAME:AEDT
DTSTART:20161001T160000
END:DAYLIGHT
END:VTIMEZONE
BEGIN:VEVENT
DTSTART;TZID=Australia/Sydney:20160303T090000
DTEND;TZID=Australia/Sydney:20160303T123000
DTSTAMP:20260421T205936
CREATED:20160228T202929Z
LAST-MODIFIED:20210129T045558Z
UID:2382-1456995600-1457008200@www.rapportleadership.com.au
SUMMARY:Ready Set Grow – Business Planning Workshop
DESCRIPTION:Is 2016 the year for your business to get set and GROW?\nHills Shire Council has partnered with Rapport Leadership International to present a series of half day workshops to empower you to grow your business to the next level.  The workshops will show you how to develop a business plan to increase both the revenue and profitability of your business. Experienced business mentors will help you identify the right strategies to get the results you want from your business. \nWe will also discuss how the Industry Skills Fund (ISF)\, a government initiative to assist SME businesses in Australia to position themselves for growth opportunities and have up to 75% of your investment in training or coaching reimbursed by the fund. The application process is quick and easy with most funding applications being turned around in under 30 days. Eligible businesses need to be non-tax-exempt\, have a demonstrated trading history (3 years min)\, have an ABN and be registered for GST. \nTo help business owners to write their business plans and apply for funding\, we will be running a workshop titled\, “Ready\, Set\, GROW”. \nThe workshop will be facilitated by Jeremy Carter\, CEO of Rapport Leadership International. Jeremy show you how to develop your business plan and how to put together the right information to make your ISF funding application a breeze.  Document templates will be supplied\, you just need to bring your laptop computer with Microsoft Office so you can fill in the blanks on the day. \nThe workshop will assist you to develop a business plan grow your business and to apply for ISF funding for training and development. \nTopics covered include: \n\nWhat is the Industry Skills Fund?\nWho is eligible?\nWhat type of training can I get funding for?\nUnderstanding the application process\nDevelop your business plan\n\nYour business mission and vision\nBusiness / Strategic plan including 3 year revenue forecast\nOrganisational structure and governance\nKPI’s – how we measure your business performance\nRisk analysis (SWOT)\nMarketing plan\n\n\nYour growth opportunity\nWorkforce planning\nUpskilling your workforce\n\nWhat skills currently exist within the business enabling it to conduct its core activity?\nWhat new skills or training is required to achieve the growth opportunity?\n\n\n\nThe last time we ran this workshop\, it was a sellout success and was rated 9.3/10 by attendees. Book NOW!\nDate: Thursday 3 March Time: Starting 8:30am – 12:30pm Where: The Hills Shire Council – 3 Columbia Court Baulkham Hills Cost: FREE (Normally $297\, however with the generous support of sponsors\, we are able to offer it free for the first 15 attendees only) \nIf 2016 is your year for business growth\, “Ready\, Set\, GROW” is an ideal event to plan your success and get assistance from Government grants to help you get there even faster!
URL:https://www.rapportleadership.com.au/event/ready-set-grow/
LOCATION:Hills Shire Council\, 3 Columbia Court\, Baulkham Hills\, NSW\, 2153\, Australia
CATEGORIES:Half Day Workshops
ATTACH;FMTTYPE=image/jpeg:https://www.rapportleadership.com.au/wp-content/uploads/2021/01/c0de1592119799bf65bc9fb46ffa4553-wa1Qsl.tmp_.jpg
END:VEVENT
BEGIN:VEVENT
DTSTART;TZID=Australia/Sydney:20160308T100000
DTEND;TZID=Australia/Sydney:20160308T120000
DTSTAMP:20260421T205936
CREATED:20160203T023007Z
LAST-MODIFIED:20210129T045558Z
UID:2366-1457431200-1457438400@www.rapportleadership.com.au
SUMMARY:Childcare Leadership Roundtable Parramatta
DESCRIPTION:Are you looking to be a better leader and build a stronger team within your childcare centre?\nYou are invited to our Childcare Leadership Roundtable event where we cover some of the biggest challenges in Childcare and how to solve them quickly and easily.\nIf you are frustrated with your results or your team\, then you need to consider a different approach. This workshop is designed for people already in a leadership role in childcare centres wanting to connect with peers and discuss challenges facing the industry today. \nTopics include: \n\n\n\nBeing an effective childcare leader\n\n\n\n\nManaging paperwork requirements\n\n\n\n\nLeading learning Circles\n\n\n\n\nImplementing the NQF framework\n\n\n\n\nEffective critical reflection\n\n\n\n\nDealing with difficult parents\n\n\n\n\nManaging under performing staff\n\n\n\n\nAs well as any other challenges you may be facing at the moment.\n\nThis session will be facilitated by an experienced leadership and business coach. Break for lunch and then join us for Leadership Essentials\, a four hour hands on workshop which covers how to be a better leader and build a stronger team. \n10am-12pm – Childcare Leadership Roundtable\n1pm-5pm    –  Leadership Essentials Workshop \nRegister to attend both events and save $20\nWho will be presenting? \nJeremy Carter is the Managing Director of Rapport Leadership Australia and has twenty years experience in building high performance teams and developing new leaders in organisations. \nSeats are limited to ensure this is a very interactive event so BOOK TODAY. \nTo learn more about our range of training and consulting solutions for Childcare Centres\, visit our childcare page or contact us at info@rapportleadership.com.au
URL:https://www.rapportleadership.com.au/event/childcare-leadership-roundtable-parramatta/
LOCATION:Function Room Parramatta\, Level 6\, 87 Marsden St\, Parramatta\, 2150\, Australia
CATEGORIES:Half Day Workshops
ATTACH;FMTTYPE=image/jpeg:https://www.rapportleadership.com.au/wp-content/uploads/2021/01/32f08fb5ab2d789f9062f87e092b586b-oDe3OD.tmp_.jpg
END:VEVENT
BEGIN:VEVENT
DTSTART;TZID=Australia/Sydney:20160308T130000
DTEND;TZID=Australia/Sydney:20160308T170000
DTSTAMP:20260421T205936
CREATED:20160203T012857Z
LAST-MODIFIED:20210129T045558Z
UID:2359-1457442000-1457456400@www.rapportleadership.com.au
SUMMARY:Leadership Essentials Workshop Parramatta
DESCRIPTION:Whether you are an emerging\, experienced\, or future manager / leader\, you are invited to attend our Leadership Essentials workshop. Learn the essential qualities of successful leaders\, and why leadership is so important for team satisfaction\, productivity and maintaining a competitive edge.\nThis engaging leadership workshop allows you to learn and practice the skills of successful leaders. Processes reveal how you are responding in today’s business climate and teach you other ways to respond to achieve better outcomes.\n\nGain self-awareness and learn how to take focused action\, concentrating on the areas of your business and personal life that are important to you.\n\n\nDiscover which areas of your business life are getting your time and where to focus your energy.\n\n\nIdentify whether you are surviving or thriving in each area\n\n\nAssess your business attitudes and how they affect your work\n\n\nLearn to change your approach and how your thoughts affect your outcomes\n\n\nUnderstand the characteristics and behaviours of leaders who are thriving today\n\nWhat you will learn by attending? \n\nWhy leadership matters and how to be a better leader\n\n\nBuilding trust and facilitating communication to build a more successful team\n\n\nHow to recruit\, engage and retain great staff\n\n\nGaining respect and engagement from your team\n\n\nAddressing problem behaviours\n\n\nBuilding a winning culture in your organisation\n\n\nSuccessfully building new relationships\n\nFor best results\, you are invited to bring your key team members along with you.\n \nWho will be presenting? \nJeremy Carter is the Managing Director of Rapport Leadership Australia and has twenty years experience in building high performance teams and developing new leaders in organisations. \nSeats are limited to ensure this is a very interactive event so BOOK TODAY.
URL:https://www.rapportleadership.com.au/event/leadership-essentials-workshop-parramatta/
LOCATION:Function Room Parramatta\, Level 6\, 87 Marsden St\, Parramatta\, 2150\, Australia
CATEGORIES:Half Day Workshops
ATTACH;FMTTYPE=image/jpeg:https://www.rapportleadership.com.au/wp-content/uploads/2021/01/858e22c36be80f89f9ba12bc5ac71b12-d431Yu.tmp_.jpg
END:VEVENT
BEGIN:VEVENT
DTSTART;TZID=Australia/Sydney:20160318T090000
DTEND;TZID=Australia/Sydney:20160318T163000
DTSTAMP:20260421T205936
CREATED:20151111T034501Z
LAST-MODIFIED:20210129T045657Z
UID:2313-1458291600-1458318600@www.rapportleadership.com.au
SUMMARY:Emotional Intelligence Skills Workshop
DESCRIPTION:Exceptional leaders understand that Emotional Intelligence (EI) is the glue that helps to bring teams together to achieve amazing results. People don’t work for companies\, they work for people and they will only ever perform to the level at which they are managed and motivated. \n87% of Leaders with a critical mass of EI competencies placed in the top third for annual salaries and bonuses based on their business performance and the teams led by these leaders on average outperformed yearly revenue targets by 15-20%.(Goleman 2000) \n76% of Australian employees are not engaged (Gallup 2012) and 85% are either looking for work or open to speaking with a recruiter.  The bottom line costs of lack of engagement and staff turnover are significant.  Here’s how you can fix it…. \nEffective leaders invest in training to help them bring out the best from themselves and their teams. Our Emotional Intelligence for Managers and Leaders Workshop will equip you with the mindset\, knowledge and skills to become an engaging and inspiring leader. \nDesigned for anyone in a leadership role\, this informative and interactive workshop covers the following topics: \nIntroduction to Emotional Intelligence \n\nWhat is emotional intelligence\nTraits of exceptional leaders\nIQ and technical skill vs EQ as a contributor to leadership successs\nIntention vs impact\nSituational leadership\n\nAmygdala Highjack and How to Avoid It \n\nWhat causes emotional hijacks?\nAverting emotional hijacks\nSpecial forces SOSS training\nEmotional discipline\nChanging behaviours\n\nPerceptions\, Feelings and Thoughts \n\n3 factors that create experience\n4 premises of emotional control\nConcious vs unconcious mind\nIrrational thinking styles\n\nWidening the Gap Between Stimulus and Response \n\nUnderstanding your triggers and managing your response\nDealing with angry people\nAssertive vs agressive communication\n\nBy the conclusion of the workshop you will not only understand what EQ is\, you will also understand how to effectively use it as a powerful tool to build engaged and motivated teams\, to bring out the best in yourself and also the people around you. \nCourse Benefits • Understanding emotional intelligence for supervisors and people in leadership roles • Understanding your level of EQ\, your triggers and managing your responses • Tools to de-escalate and diffuse conflict before it begins. \nWho will be presenting? \nJeremy Carter is the Managing Director of Rapport Leadership Australia and has twenty years experience in building high performance teams and developing new leaders in organisations.’ \nSeats are limited to ensure this is a very interactive event so BOOK TODAY.
URL:https://www.rapportleadership.com.au/event/emotional-intelligence/
LOCATION:Adina Apartment Hotel Norwest\, 22 Brookhollow Avenue\, Baulkham Hills\, NSW\, 2153\, Australia
CATEGORIES:Half Day Workshops
ATTACH;FMTTYPE=image/jpeg:https://www.rapportleadership.com.au/wp-content/uploads/2021/01/0a66ddcd1f66a21812da67ff2820be8d-qsixaC.tmp_.jpg
END:VEVENT
BEGIN:VEVENT
DTSTART;TZID=Australia/Sydney:20160322T090000
DTEND;TZID=Australia/Sydney:20160322T123000
DTSTAMP:20260421T205936
CREATED:20160229T011803Z
LAST-MODIFIED:20210129T045457Z
UID:2385-1458637200-1458649800@www.rapportleadership.com.au
SUMMARY:Ready Set Grow Business Planning Workshop
DESCRIPTION:Is 2016 the year for your business to get set and GROW?\nHills Shire Council has partnered with Rapport Leadership International to present a series of half day workshops to empower you to grow your business to the next level.  The workshops will show you how to develop a business plan to increase both the revenue and profitability of your business. Experienced business mentors will help you identify the right strategies to get the results you want from your business. \nWe will also discuss how the Industry Skills Fund (ISF)\, a government initiative to assist SME businesses in Australia to position themselves for growth opportunities and have up to 75% of your investment in training or coaching reimbursed by the fund. The application process is quick and easy with most funding applications being turned around in under 30 days. Eligible businesses need to be non-tax-exempt\, have a demonstrated trading history (3 years min)\, have an ABN and be registered for GST. \nTo help business owners to write their business plans and apply for funding\, we will be running a workshop titled\, “Ready\, Set\, GROW”. \nThe workshop will be facilitated by Jeremy Carter\, CEO of Rapport Leadership International. Jeremy show you how to develop your business plan and how to put together the right information to make your ISF funding application a breeze.  Document templates will be supplied\, you just need to bring your laptop computer with Microsoft Office so you can fill in the blanks on the day. \nThe workshop will assist you to develop a business plan grow your business and to apply for ISF funding for training and development. \nTopics covered include: \n\nWhat is the Industry Skills Fund?\nWho is eligible?\nWhat type of training can I get funding for?\nUnderstanding the application process\nDevelop your business plan\n\nYour business mission and vision\nBusiness / Strategic plan including 3 year revenue forecast\nOrganisational structure and governance\nKPI’s – how we measure your business performance\nRisk analysis (SWOT)\nMarketing plan\n\n\nYour growth opportunity\nWorkforce planning\nUpskilling your workforce\n\nWhat skills currently exist within the business enabling it to conduct its core activity?\nWhat new skills or training is required to achieve the growth opportunity?\n\n\n\nThe last time we ran this workshop\, it was a sellout success and was rated 9.3/10 by attendees. Book NOW!\nDate: Thursday 3 March\nTime: Starting 8:30am – 12:30pm\nWhere: The Hills Shire Council – 3 Columbia Court Baulkham Hills\nCost: FREE (Normally $297\, however with the generous support of sponsors\, we are able to offer it free for the first 15 attendees only) \nIf 2016 is your year for business growth\, “Ready\, Set\, GROW” is an ideal event to plan your success and get assistance from Government grants to help you get there even faster!
URL:https://www.rapportleadership.com.au/event/ready-set-grow2/
LOCATION:Hills Shire Council\, 3 Columbia Court\, Baulkham Hills\, NSW\, 2153\, Australia
ATTACH;FMTTYPE=image/jpeg:https://www.rapportleadership.com.au/wp-content/uploads/2021/01/ca7d5ab695db54f8ffb62d7bc74cc43d-u2Dxbz.tmp_.jpg
END:VEVENT
END:VCALENDAR