BEGIN:VCALENDAR
VERSION:2.0
PRODID:-//Rapport Leadership Training | Management Skills Development | Teambuilding | Communication Skills - ECPv5.12.3//NONSGML v1.0//EN
CALSCALE:GREGORIAN
METHOD:PUBLISH
X-WR-CALNAME:Rapport Leadership Training | Management Skills Development | Teambuilding | Communication Skills
X-ORIGINAL-URL:https://www.rapportleadership.com.au
X-WR-CALDESC:Events for Rapport Leadership Training | Management Skills Development | Teambuilding | Communication Skills
REFRESH-INTERVAL;VALUE=DURATION:PT1H
X-Robots-Tag:noindex
X-PUBLISHED-TTL:PT1H
BEGIN:VTIMEZONE
TZID:Australia/Sydney
BEGIN:STANDARD
TZOFFSETFROM:+1100
TZOFFSETTO:+1000
TZNAME:AEST
DTSTART:20160402T160000
END:STANDARD
BEGIN:DAYLIGHT
TZOFFSETFROM:+1000
TZOFFSETTO:+1100
TZNAME:AEDT
DTSTART:20161001T160000
END:DAYLIGHT
TZID:Australia/Melbourne
BEGIN:STANDARD
TZOFFSETFROM:+1100
TZOFFSETTO:+1000
TZNAME:AEST
DTSTART:20160402T160000
END:STANDARD
BEGIN:DAYLIGHT
TZOFFSETFROM:+1000
TZOFFSETTO:+1100
TZNAME:AEDT
DTSTART:20161001T160000
END:DAYLIGHT
END:VTIMEZONE
BEGIN:VEVENT
DTSTART;TZID=Australia/Sydney:20160204T090000
DTEND;TZID=Australia/Sydney:20160204T130000
DTSTAMP:20260421T223433
CREATED:20151111T035813Z
LAST-MODIFIED:20210129T045657Z
UID:2317-1454576400-1454590800@www.rapportleadership.com.au
SUMMARY:Leadership Essentials Workshop Sydney
DESCRIPTION:Whether you are an emerging\, experienced\, or future manager / leader\, you are invited to attend our Leadership Essentials workshop. Learn the essential qualities of successful leaders\, and why leadership is so important for team satisfaction\, productivity and maintaining a competitive edge.\nThis engaging leadership workshop allows you to learn and practice the skills of successful leaders. Processes reveal how you are responding in today’s business climate and teach you other ways to respond to achieve better outcomes.\n\n\n\nGain self-awareness and learn how to take focused action\, concentrating on the areas of your business and personal life that are important to you.\n\n\n\n\nDiscover which areas of your business life are getting your time and where to focus your energy.\n\n\n\n\nAssess your business attitudes and how they affect your work\n\n\n\n\nLearn to change your approach and how your thoughts affect your outcomes\n\n\n\n\nUnderstand the characteristics and behaviours of leaders who are thriving today\n\nWhat you will learn by attending? \n\n\n\nWhy leadership matters and how to be a better leader\n\n\n\n\nBuilding trust and facilitating communication to build a more successful team\n\n\n\n\nHow to recruit\, engage and retain great staff\n\n\n\n\nGaining respect and engagement from your team\n\n\n\n\nAddressing problem behaviours\n\n\n\n\nBuilding a winning culture in your organisation\n\n\n\n\nSuccessfully building new relationships\n\nFor best results\, you are invited to bring your key team members along with you.\n \nWho will be presenting? \nJeremy Carter is the Managing Director of Rapport Leadership Australia and has twenty years experience in building high performance teams and developing new leaders in organisations.’ \nThis workshop is usually priced at $197\, save 50% off RRP\nSeats are limited to ensure this is a very interactive event so BOOK TODAY.
URL:https://www.rapportleadership.com.au/event/leadership-essentials-sydney/
LOCATION:Karstens Sydney Conference & Meeting Venue\, 111 Harrington Street\, Sydney\, NSW\, 2000
CATEGORIES:Half Day Workshops
ATTACH;FMTTYPE=image/jpeg:https://www.rapportleadership.com.au/wp-content/uploads/2021/01/2bef1a664d3a273c64e37497d8aea220-nFFzUv.tmp_.jpg
END:VEVENT
BEGIN:VEVENT
DTSTART;TZID=Australia/Melbourne:20160218T163000
DTEND;TZID=Australia/Melbourne:20160220T160000
DTSTAMP:20260421T223433
CREATED:20150128T115611Z
LAST-MODIFIED:20201124T070956Z
UID:1564-1455813000-1455984000@www.rapportleadership.com.au
SUMMARY:Leadership Breakthrough One
DESCRIPTION:Are you ready to develop your leadership skills to a whole new level?\nMost management and leadership training never leaves the classroom and much of it is forgotten in a few short weeks. Leadership Breakthrough One provides a safe environment in which you can experience\, learn and master critical leadership skills that will improve your productivity\, ability to make quick decisions\, communicate with confidence and inspire and motivate teams. The course outcomes are measurable and lasting and have been independently verified.\nWhat leadership skills are developed? \n\nInspiring and motivating people to high performance\nSwitching on laser focus and getting results quickly\nEmotional intelligence\, self-esteem and self-confidence\nBuilding instant rapport with others\nListening and communication\nOvercoming fear and procrastination\nTeamwork and support\nGiving effective feedback\nHolding people accountable\nIdentifying your mission and how to align it with your work\nUnleashing potential in yourself and others around you\nSpeaking in public with purpose\, clarity and confidence\n\nFor more details on Leadership Breakthrough One\, click here\n\n 
URL:https://www.rapportleadership.com.au/event/leadership-breakthrough-one-4/
LOCATION:Sebel Resort and Spa\, 61 Hawkesbury Valley Way\, Windsor\, NSW\, 2756\, Australia
CATEGORIES:Intensives
ATTACH;FMTTYPE=image/jpeg:https://www.rapportleadership.com.au/wp-content/uploads/2020/11/Team-2611.jpg
END:VEVENT
END:VCALENDAR