BEGIN:VCALENDAR
VERSION:2.0
PRODID:-//Rapport Leadership Training | Management Skills Development | Teambuilding | Communication Skills - ECPv5.12.3//NONSGML v1.0//EN
CALSCALE:GREGORIAN
METHOD:PUBLISH
X-WR-CALNAME:Rapport Leadership Training | Management Skills Development | Teambuilding | Communication Skills
X-ORIGINAL-URL:https://www.rapportleadership.com.au
X-WR-CALDESC:Events for Rapport Leadership Training | Management Skills Development | Teambuilding | Communication Skills
REFRESH-INTERVAL;VALUE=DURATION:PT1H
X-Robots-Tag:noindex
X-PUBLISHED-TTL:PT1H
BEGIN:VTIMEZONE
TZID:Australia/Melbourne
BEGIN:STANDARD
TZOFFSETFROM:+1100
TZOFFSETTO:+1000
TZNAME:AEST
DTSTART:20150404T160000
END:STANDARD
BEGIN:DAYLIGHT
TZOFFSETFROM:+1000
TZOFFSETTO:+1100
TZNAME:AEDT
DTSTART:20151003T160000
END:DAYLIGHT
END:VTIMEZONE
BEGIN:VEVENT
DTSTART;TZID=Australia/Melbourne:20150605T093000
DTEND;TZID=Australia/Melbourne:20150605T140000
DTSTAMP:20260422T140001
CREATED:20150521T234728Z
LAST-MODIFIED:20150521T234728Z
UID:1708-1433496600-1433512800@www.rapportleadership.com.au
SUMMARY:Childcare Centre Training Day - Being More
DESCRIPTION:Whether you are an emerging\, experienced\, or future leader\, you are invited to attend our Childcare Centre Leadership training and information session. Learn the essential qualities childcare centres need from their leaders\, and why it is so important for team satisfaction\, child outcomes\, and maintaining a competitive edge. \nWe will also cover the role of the educational leader and the NQF framework and how to ensure compliance for your centre without spending a cent. \nParticipate in roundtable discussion with experts and peers on the challenges you are facing in your centre and solutions to overcome them.  This is not just about theory\, it’s about what works in practice. \nFamilies and employees expect so much more these days\, so maintaining the status quo simply isn’t enough. Take your learning to the next level\, and discover what great things can be achieved. \nWhat you will learn by attending? \n\nWhy leadership matters in childcare and how to be a better leader\nBuilding trust and facilitating communication to build a more successful team\nThe importance of hiring the right people and how to recruit\, engage and retain great staff\nAddressing problem behaviours\nBuilding a winning culture in your organisation\nBuild new relationshipships and network with your peers in your industry\nBest practice in implementing the NQF Framework\n\nWho will be presenting? \nJeremy Carter is the Managing Director of Rapport Leadership Australia and has twenty years experience in building high performance teams and developing new leaders in organisations.’ \nSue McIntyre is the Childcare Educational Specialist for Rapport Leadership and has a Masters Degree in Special Education and 20 years experience in Childcare. \nSeats are limited to ensure this is a very interactive event so BOOK TODAY. \n 
URL:https://www.rapportleadership.com.au/event/childcare-centre-training-day-being-more/
LOCATION:Adina Apartment Hotel\, 22 Brookhollow Avenue\, Baulkham Hills\, NSW\, 2153\, Australia
END:VEVENT
BEGIN:VEVENT
DTSTART;TZID=Australia/Melbourne:20150619T183000
DTEND;TZID=Australia/Melbourne:20150621T160000
DTSTAMP:20260422T140001
CREATED:20150128T115832Z
LAST-MODIFIED:20150128T115832Z
UID:1567-1434738600-1434902400@www.rapportleadership.com.au
SUMMARY:Power Communication
DESCRIPTION:
URL:https://www.rapportleadership.com.au/event/power-communication-2/
LOCATION:Sydney\, NSW\, NSW\, 2150\, Australia
CATEGORIES:Intensives
END:VEVENT
BEGIN:VEVENT
DTSTART;TZID=Australia/Melbourne:20150625T163000
DTEND;TZID=Australia/Melbourne:20150627T160000
DTSTAMP:20260422T140001
CREATED:20150128T115517Z
LAST-MODIFIED:20150128T115517Z
UID:1563-1435249800-1435420800@www.rapportleadership.com.au
SUMMARY:Leadership Breakthrough One
DESCRIPTION:
URL:https://www.rapportleadership.com.au/event/leadership-breakthrough-one-3/
LOCATION:Sebel Resort and Spa\, 61 Hawkesbury Valley Way\, Windsor\, NSW\, 2756\, Australia
CATEGORIES:Intensives
END:VEVENT
END:VCALENDAR