BEGIN:VCALENDAR
VERSION:2.0
PRODID:-//Rapport Leadership Training | Management Skills Development | Teambuilding | Communication Skills - ECPv5.12.3//NONSGML v1.0//EN
CALSCALE:GREGORIAN
METHOD:PUBLISH
X-WR-CALNAME:Rapport Leadership Training | Management Skills Development | Teambuilding | Communication Skills
X-ORIGINAL-URL:https://www.rapportleadership.com.au
X-WR-CALDESC:Events for Rapport Leadership Training | Management Skills Development | Teambuilding | Communication Skills
REFRESH-INTERVAL;VALUE=DURATION:PT1H
X-Robots-Tag:noindex
X-PUBLISHED-TTL:PT1H
BEGIN:VTIMEZONE
TZID:Australia/Melbourne
BEGIN:STANDARD
TZOFFSETFROM:+1100
TZOFFSETTO:+1000
TZNAME:AEST
DTSTART:20180331T160000
END:STANDARD
BEGIN:DAYLIGHT
TZOFFSETFROM:+1000
TZOFFSETTO:+1100
TZNAME:AEDT
DTSTART:20181006T160000
END:DAYLIGHT
END:VTIMEZONE
BEGIN:VEVENT
DTSTART;TZID=Australia/Melbourne:20180824T180000
DTEND;TZID=Australia/Melbourne:20180826T170000
DTSTAMP:20260424T220903
CREATED:20180309T005133Z
LAST-MODIFIED:20201124T060308Z
UID:2996-1535133600-1535302800@www.rapportleadership.com.au
SUMMARY:Life Mastery Breakthrough
DESCRIPTION:If anything was possible\, what would you do with your life?\nIn Life Mastery\, you will identify your life’s goals and dreams in seven different categories: personal\, recreation\, spiritual\, career\, financial\, family and relationship. \nHaving clarity in each of these categories helps you create a balanced lifestyle and after completing the course you will leave with a five-year life plan with strategic goals as well as a detailed action plan for the next 12 months. This is one of Rapport’s highest acclaimed classes. \nWhat will you learn by attending Life Mastery?\n\nCreate a Life Action Plan\nLive from Abundance\nCreate Balance & Focus\nIdentify Priorities\nThink from Your Goals\n\nWhat results can you expect by attending?\n\nCommit to an ideal life in order to make a significant shift in your thinking and behaviour\nThink big and realise you serve no one by not succeeding yourself\nFocus on each area of your life to live with more balance\, peace\, and purpose\nKnow your priorities to make time for the things that matter most to you\nThink from your goals to create the attraction and intention required to achieve them\n\n\n\nREQUEST MORE INFORMATION\n\n  \n\n\n\n\n\n\n\n\n\n\n  \n  \n  \n  \n \n\n 
URL:https://www.rapportleadership.com.au/event/life-mastery-breakthrough/
LOCATION:NSW
CATEGORIES:Intensives
ATTACH;FMTTYPE=image/jpeg:https://www.rapportleadership.com.au/wp-content/uploads/2018/03/life-mastery-1.jpg
END:VEVENT
END:VCALENDAR