BEGIN:VCALENDAR
VERSION:2.0
PRODID:-//Rapport Leadership Training | Management Skills Development | Teambuilding | Communication Skills - ECPv5.12.3//NONSGML v1.0//EN
CALSCALE:GREGORIAN
METHOD:PUBLISH
X-WR-CALNAME:Rapport Leadership Training | Management Skills Development | Teambuilding | Communication Skills
X-ORIGINAL-URL:https://www.rapportleadership.com.au
X-WR-CALDESC:Events for Rapport Leadership Training | Management Skills Development | Teambuilding | Communication Skills
REFRESH-INTERVAL;VALUE=DURATION:PT1H
X-Robots-Tag:noindex
X-PUBLISHED-TTL:PT1H
BEGIN:VTIMEZONE
TZID:Australia/Melbourne
BEGIN:STANDARD
TZOFFSETFROM:+1100
TZOFFSETTO:+1000
TZNAME:AEST
DTSTART:20190406T160000
END:STANDARD
BEGIN:DAYLIGHT
TZOFFSETFROM:+1000
TZOFFSETTO:+1100
TZNAME:AEDT
DTSTART:20191005T160000
END:DAYLIGHT
END:VTIMEZONE
BEGIN:VEVENT
DTSTART;TZID=Australia/Melbourne:20191114T170000
DTEND;TZID=Australia/Melbourne:20191116T160000
DTSTAMP:20260423T182217
CREATED:20171103T001110Z
LAST-MODIFIED:20201124T060016Z
UID:2801-1573750800-1573920000@www.rapportleadership.com.au
SUMMARY:Leadership Breakthrough One
DESCRIPTION:Are you ready to develop your leadership skills to a whole new level?\nMost management and leadership training never leaves the classroom and much of it is forgotten in a few short weeks. Leadership Breakthrough One provides a safe environment in which you can experience\, learn and master critical leadership skills that will improve your productivity\, ability to make quick decisions\, communicate with confidence and inspire and motivate teams. The course outcomes are measurable and lasting and have been independently verified.\nWhat leadership skills are developed? \n\nInspiring and motivating people to high performance\nSwitching on laser focus and getting results quickly\nEmotional intelligence\, self-esteem and self-confidence\nBuilding instant rapport with others\nListening and communication\nOvercoming fear and procrastination\nTeamwork and support\nGiving effective feedback\nHolding people accountable\nIdentifying your mission and how to align it with your work\nUnleashing potential in yourself and others around you\nSpeaking in public with purpose\, clarity and confidence\n\nFor more details on Leadership Breakthrough One\, click here\n\n 
URL:https://www.rapportleadership.com.au/event/leadership-breakthrough-one-14/
LOCATION:Crowne Plaze Hawkesbury\, 61 Hawkesbury Valley Way\, Windsor\, NSW\, 2756\, Australia
CATEGORIES:Intensives
ATTACH;FMTTYPE=image/jpeg:https://www.rapportleadership.com.au/wp-content/uploads/2017/11/team-2811-zany.jpg
END:VEVENT
END:VCALENDAR