BEGIN:VCALENDAR
VERSION:2.0
PRODID:-//Rapport Leadership Training | Management Skills Development | Teambuilding | Communication Skills - ECPv5.12.3//NONSGML v1.0//EN
CALSCALE:GREGORIAN
METHOD:PUBLISH
X-WR-CALNAME:Rapport Leadership Training | Management Skills Development | Teambuilding | Communication Skills
X-ORIGINAL-URL:https://www.rapportleadership.com.au
X-WR-CALDESC:Events for Rapport Leadership Training | Management Skills Development | Teambuilding | Communication Skills
REFRESH-INTERVAL;VALUE=DURATION:PT1H
X-Robots-Tag:noindex
X-PUBLISHED-TTL:PT1H
BEGIN:VTIMEZONE
TZID:Australia/Melbourne
BEGIN:STANDARD
TZOFFSETFROM:+1100
TZOFFSETTO:+1000
TZNAME:AEST
DTSTART:20190406T160000
END:STANDARD
BEGIN:DAYLIGHT
TZOFFSETFROM:+1000
TZOFFSETTO:+1100
TZNAME:AEDT
DTSTART:20191005T160000
END:DAYLIGHT
END:VTIMEZONE
BEGIN:VEVENT
DTSTART;TZID=Australia/Melbourne:20190412T180000
DTEND;TZID=Australia/Melbourne:20190414T173000
DTSTAMP:20260424T060915
CREATED:20161204T200821Z
LAST-MODIFIED:20201124T060409Z
UID:2544-1555092000-1555263000@www.rapportleadership.com.au
SUMMARY:Power Communication Breakthrough
DESCRIPTION:Communication is paramount to success and to changing cultures. In Power Communication\, you identify your learning and communication preference for visual\, auditory\, and kinesthetic modalities\, and how to use this to improve your communication outcomes. Great leaders need great communication skills.\nYou will learn how to most effectively engage\, communicate\, and get in rapport with any communication style. Communication tools and techniques are practiced one-on-one\, in small teams\, and in large group exercises. This interactive program will enhance your communication effectiveness immediately. This course is ideal for couples wanting to improve their communication and strengthen their relationship. \nWhat will you learn at the course?\n\nIdentifying communication styles\nCreating rapport with people\nListening to understand\nReframing for a new approach\nProducing win/win outcomes\nTaking responsibility for your communication\n\n\nWhat results can you expect by attending?\n\nDevelop mutual trust and understanding thereby strengthening relationships and team performance\nCommunications that improve productivity and foster ingenuity\nUnderstand how to create rapport and master the essence of effective communication\nListen to understand and help move the business in the direction of the desired culture\nDiscover additional perspectives to create new and different outcomes in every situation\nFind new ways to collaborate with like-minded people\nBecome proactive and seek out understanding\, choosing to remain positive\n\nWhat’s included for your investment?\n\nCourse materials and handouts\nAbility to reattend the program for free as a member of our on-team staff\nInvitation to exclusive alumni events\n\nYour 100% satisfaction guarantee:\nIf by the end of the program you are not convinced that what you have learned will significantly improve your results\, help you make more money\, and experience more joy\, love and success\, we will refund your fee in full.\nAll we ask is that you: \n\nParticipate fully in the entire program\nNotify the instructor before leaving on last day if you wish to get a refund\nReturn the workbook with all handouts and your notes\n\nOur next Power Communication training is scheduled for:\nDate: 6:30pm Friday April 12 – 5:00pm April 14\n \nLocation: Sydney\, NSW \nDue to the intensive nature of this program\, seats are strictly limited. \nFor more information on this class please click here\n 
URL:https://www.rapportleadership.com.au/event/power-communication-3/
LOCATION:Waldorf Parramatta\, 110-114 James Ruse Dr\, Parramatta\, NSW\, 2142\, Australia
CATEGORIES:Intensives
ATTACH;FMTTYPE=image/jpeg:https://www.rapportleadership.com.au/wp-content/uploads/2016/12/PC-Grads.jpg
END:VEVENT
END:VCALENDAR