BEGIN:VCALENDAR
VERSION:2.0
PRODID:-//Rapport Leadership Training | Management Skills Development | Teambuilding | Communication Skills - ECPv5.12.3//NONSGML v1.0//EN
CALSCALE:GREGORIAN
METHOD:PUBLISH
X-WR-CALNAME:Rapport Leadership Training | Management Skills Development | Teambuilding | Communication Skills
X-ORIGINAL-URL:https://www.rapportleadership.com.au
X-WR-CALDESC:Events for Rapport Leadership Training | Management Skills Development | Teambuilding | Communication Skills
REFRESH-INTERVAL;VALUE=DURATION:PT1H
X-Robots-Tag:noindex
X-PUBLISHED-TTL:PT1H
BEGIN:VTIMEZONE
TZID:Australia/Sydney
BEGIN:STANDARD
TZOFFSETFROM:+1100
TZOFFSETTO:+1000
TZNAME:AEST
DTSTART:20160402T160000
END:STANDARD
BEGIN:DAYLIGHT
TZOFFSETFROM:+1000
TZOFFSETTO:+1100
TZNAME:AEDT
DTSTART:20161001T160000
END:DAYLIGHT
END:VTIMEZONE
BEGIN:VEVENT
DTSTART;TZID=Australia/Sydney:20160318T090000
DTEND;TZID=Australia/Sydney:20160318T163000
DTSTAMP:20260421T223434
CREATED:20151111T034501Z
LAST-MODIFIED:20210129T045657Z
UID:2313-1458291600-1458318600@www.rapportleadership.com.au
SUMMARY:Emotional Intelligence Skills Workshop
DESCRIPTION:Exceptional leaders understand that Emotional Intelligence (EI) is the glue that helps to bring teams together to achieve amazing results. People don’t work for companies\, they work for people and they will only ever perform to the level at which they are managed and motivated. \n87% of Leaders with a critical mass of EI competencies placed in the top third for annual salaries and bonuses based on their business performance and the teams led by these leaders on average outperformed yearly revenue targets by 15-20%.(Goleman 2000) \n76% of Australian employees are not engaged (Gallup 2012) and 85% are either looking for work or open to speaking with a recruiter.  The bottom line costs of lack of engagement and staff turnover are significant.  Here’s how you can fix it…. \nEffective leaders invest in training to help them bring out the best from themselves and their teams. Our Emotional Intelligence for Managers and Leaders Workshop will equip you with the mindset\, knowledge and skills to become an engaging and inspiring leader. \nDesigned for anyone in a leadership role\, this informative and interactive workshop covers the following topics: \nIntroduction to Emotional Intelligence \n\nWhat is emotional intelligence\nTraits of exceptional leaders\nIQ and technical skill vs EQ as a contributor to leadership successs\nIntention vs impact\nSituational leadership\n\nAmygdala Highjack and How to Avoid It \n\nWhat causes emotional hijacks?\nAverting emotional hijacks\nSpecial forces SOSS training\nEmotional discipline\nChanging behaviours\n\nPerceptions\, Feelings and Thoughts \n\n3 factors that create experience\n4 premises of emotional control\nConcious vs unconcious mind\nIrrational thinking styles\n\nWidening the Gap Between Stimulus and Response \n\nUnderstanding your triggers and managing your response\nDealing with angry people\nAssertive vs agressive communication\n\nBy the conclusion of the workshop you will not only understand what EQ is\, you will also understand how to effectively use it as a powerful tool to build engaged and motivated teams\, to bring out the best in yourself and also the people around you. \nCourse Benefits • Understanding emotional intelligence for supervisors and people in leadership roles • Understanding your level of EQ\, your triggers and managing your responses • Tools to de-escalate and diffuse conflict before it begins. \nWho will be presenting? \nJeremy Carter is the Managing Director of Rapport Leadership Australia and has twenty years experience in building high performance teams and developing new leaders in organisations.’ \nSeats are limited to ensure this is a very interactive event so BOOK TODAY.
URL:https://www.rapportleadership.com.au/event/emotional-intelligence/
LOCATION:Adina Apartment Hotel Norwest\, 22 Brookhollow Avenue\, Baulkham Hills\, NSW\, 2153\, Australia
CATEGORIES:Half Day Workshops
ATTACH;FMTTYPE=image/jpeg:https://www.rapportleadership.com.au/wp-content/uploads/2021/01/0a66ddcd1f66a21812da67ff2820be8d-qsixaC.tmp_.jpg
END:VEVENT
END:VCALENDAR