BEGIN:VCALENDAR
VERSION:2.0
PRODID:-//Rapport Leadership Training | Management Skills Development | Teambuilding | Communication Skills - ECPv5.12.3//NONSGML v1.0//EN
CALSCALE:GREGORIAN
METHOD:PUBLISH
X-WR-CALNAME:Rapport Leadership Training | Management Skills Development | Teambuilding | Communication Skills
X-ORIGINAL-URL:https://www.rapportleadership.com.au
X-WR-CALDESC:Events for Rapport Leadership Training | Management Skills Development | Teambuilding | Communication Skills
REFRESH-INTERVAL;VALUE=DURATION:PT1H
X-Robots-Tag:noindex
X-PUBLISHED-TTL:PT1H
BEGIN:VTIMEZONE
TZID:Australia/Melbourne
BEGIN:STANDARD
TZOFFSETFROM:+1100
TZOFFSETTO:+1000
TZNAME:AEST
DTSTART:20150404T160000
END:STANDARD
BEGIN:DAYLIGHT
TZOFFSETFROM:+1000
TZOFFSETTO:+1100
TZNAME:AEDT
DTSTART:20151003T160000
END:DAYLIGHT
END:VTIMEZONE
BEGIN:VEVENT
DTSTART;TZID=Australia/Melbourne:20150311T073000
DTEND;TZID=Australia/Melbourne:20150311T100000
DTSTAMP:20260422T211814
CREATED:20150128T120856Z
LAST-MODIFIED:20150128T120856Z
UID:1571-1426059000-1426068000@www.rapportleadership.com.au
SUMMARY:Inspiring Leadership
DESCRIPTION:Leadership is not a title\, it is a set of skills and beliefs that allow people to change the world\, without having to ask permission first. The bigger and better team you build\, the more significant an impact you can make in the lives of others and also in your own life. \nAre you frustrated with the culture within your organisation?\nDo you see opportunities that others don’t and you want to learn how to make a significant difference? \nThis event will help you to develop a whole new generation of leaders for your organisation. \nWhat you will learn: \n• Why leadership matters now more than ever before;\n• An understanding of the six leadership stages and the challenges they bring;\n• How to develop a leadership culture and inspire your team;\n• How Millers law can make you a better leader;\n• How to measure leadership within your organisation;\n• Why management often demotivates and disengages staff;\n• Why accountability is not all it’s cracked up to be;\n• Why most change initiatives fail and why people resist change; and\n• How to identify core leadership traits and develop new leaders. \nYou will leave with powerful\, practical tools and strategies you can implement and apply immediately! \nWho should attend: \nThis event is designed for executives\, management teams and future leaders wanting to take themselves and their teams to the next level. \nFor the best results and the greatest impact for your business – bring your team! \nSpeaker: \nJeremy Carter is the CEO of Rapport Leadership International in Australia. Rapport Leadership International has a thirty year track record of offering unique and challenging leadership programs which empower new leaders\, executives and business owners with the confidence\, self-esteem\, and focus necessary to improve their personal effectiveness and build high performance teams. Rapport has offices in the US\, Canada and Australia and has over 250\,000 graduates of their courses. \nJeremy started his career as a computer engineer and worked his way up from an entry level role to being the Oceania Managing Director of US technology company National Instruments at the age of thirty. By building a great team\, he increased sales 62% in only two years without hiring any additional staff. Since leaving the corporate world ten years ago\, he has worked as a leading business and executive coach\, winning multiple awards for both himself and his clients’ results. \nTo register\, please visit the American Chamber of Commerce Website.
URL:https://www.rapportleadership.com.au/event/inspiring-leadership/
LOCATION:Shangri La Hotel\, 176 Cumberland Street\, Sydney\, NSW\, 200\, Australia
CATEGORIES:Seminars
END:VEVENT
END:VCALENDAR